BEGIN:VCALENDAR
VERSION:2.0
PRODID:-//Sydney Juan Church - ECPv4.2.5//NONSGML v1.0//EN
CALSCALE:GREGORIAN
METHOD:PUBLISH
X-WR-CALNAME:Sydney Juan Church
X-ORIGINAL-URL:http://sydjuan.org.au
X-WR-CALDESC:Events for Sydney Juan Church
BEGIN:VEVENT
DTSTART;TZID=UTC+0:20160823T190000
DTEND;TZID=UTC+0:20160823T210000
DTSTAMP:20200302T075422
CREATED:20160818T055337
LAST-MODIFIED:20160818T150843
UID:1801-1471978800-1471986000@sydjuan.org.au
SUMMARY:Reformed Theological College 신학과정
DESCRIPTION:Reformed Theological College 신학과정 :\n이번 주간 화요일(16일)부터 매주 화요일 저녁 7시에 West Ryde 주안교회당에서 있습니다. 원하시는 분들은 신청하시기 바랍니다. (8주과정\, 복음서는 무엇을 말하는가? 등록비: $80)
URL:http://sydjuan.org.au/event/reformed-theological-college-%ec%8b%a0%ed%95%99%ea%b3%bc%ec%a0%95/
LOCATION:2 Station St.\, West Ryde\, 2114\, Australia
CATEGORIES:Sermons
END:VEVENT
END:VCALENDAR