BEGIN:VCALENDAR
VERSION:2.0
PRODID:-//Sydney Juan Church - ECPv4.2.5//NONSGML v1.0//EN
CALSCALE:GREGORIAN
METHOD:PUBLISH
X-WR-CALNAME:Sydney Juan Church
X-ORIGINAL-URL:http://sydjuan.org.au
X-WR-CALDESC:Events for Sydney Juan Church
BEGIN:VEVENT
DTSTART;TZID=UTC+0:20161225T080000
DTEND;TZID=UTC+0:20161225T190000
DTSTAMP:20200302T075519
CREATED:20161218T133726
LAST-MODIFIED:20161218T133726
UID:2446-1482652800-1482692400@sydjuan.org.au
SUMMARY:12월 25일(성탄절) 예배
DESCRIPTION:12월 25일(성탄절) 예배 장소를 다음과 같이 변경 합니다. 예배에 착오 없으시기 바랍니다.\n\n1-3부 예배\, 아동부 : 오전 9시 50분\, 11시\, Kings Own Institute(1층\, 31 Market St\, Sydney\, Cnr. York St. & Market St.\, St. Martins Tower)\n\n4부(오후 7시)예배\, Juan International Ministry(오후 12시 50분) 시티 주안교회 집회실에서(Level 2\, 375 Pitt St. Sydney\, 나루원 3층)
URL:http://sydjuan.org.au/event/12%ec%9b%94-25%ec%9d%bc%ec%84%b1%ed%83%84%ec%a0%88-%ec%98%88%eb%b0%b0/
LOCATION:31 Market St\, Sydney\, NSW\, 2000\, Australia
CATEGORIES:Meetings,Sermons
END:VEVENT
END:VCALENDAR