BEGIN:VCALENDAR
VERSION:2.0
PRODID:-//Sydney Juan Church - ECPv4.2.5//NONSGML v1.0//EN
CALSCALE:GREGORIAN
METHOD:PUBLISH
X-WR-CALNAME:Sydney Juan Church
X-ORIGINAL-URL:http://sydjuan.org.au
X-WR-CALDESC:Events for Sydney Juan Church
BEGIN:VEVENT
DTSTART;TZID=UTC+0:20161231T220000
DTEND;TZID=UTC+0:20161231T235500
DTSTAMP:20200302T075545
CREATED:20161218T134159
LAST-MODIFIED:20161218T134159
UID:2456-1483221600-1483228500@sydjuan.org.au
SUMMARY:송구영신예배
DESCRIPTION:1월 31일(토)오후 10시 West Ryde 주안교회당
URL:http://sydjuan.org.au/event/%ec%86%a1%ea%b5%ac%ec%98%81%ec%8b%a0%ec%98%88%eb%b0%b0/
LOCATION:2 Station St.\, West Ryde\, 2114\, Australia
CATEGORIES:Sermons
END:VEVENT
END:VCALENDAR