BEGIN:VCALENDAR
VERSION:2.0
PRODID:-//Sydney Juan Church - ECPv4.2.5//NONSGML v1.0//EN
CALSCALE:GREGORIAN
METHOD:PUBLISH
X-WR-CALNAME:Sydney Juan Church
X-ORIGINAL-URL:http://sydjuan.org.au
X-WR-CALDESC:Events for Sydney Juan Church
BEGIN:VEVENT
DTSTART;TZID=UTC+0:20160828T150000
DTEND;TZID=UTC+0:20160828T170000
DTSTAMP:20200302T075910
CREATED:20160823T035324
LAST-MODIFIED:20160823T035324
UID:1841-1472396400-1472403600@sydjuan.org.au
SUMMARY:셀장훈련학교 학생모집
DESCRIPTION:셀장 훈련학교가 다음 주일(28일)부터 시작됩니다. 훈련 받으실 분들은 현관에서 신청하시기 바랍니다.
URL:http://sydjuan.org.au/event/%ec%85%80%ec%9e%a5%ed%9b%88%eb%a0%a8%ed%95%99%ea%b5%90-%ed%95%99%ec%83%9d%eb%aa%a8%ec%a7%91/
LOCATION:Cnr.Ultimo Rd.& Quay St. Haymarket\, Sydney\, NSW\, 2000\, Australia
CATEGORIES:Meetings
END:VEVENT
END:VCALENDAR