BEGIN:VCALENDAR
VERSION:2.0
PRODID:-//Sydney Juan Church - ECPv4.2.5//NONSGML v1.0//EN
CALSCALE:GREGORIAN
METHOD:PUBLISH
X-WR-CALNAME:Sydney Juan Church
X-ORIGINAL-URL:http://sydjuan.org.au
X-WR-CALDESC:Events for Sydney Juan Church
BEGIN:VEVENT
DTSTART;TZID=UTC+0:20161222T190000
DTEND;TZID=UTC+0:20161222T210000
DTSTAMP:20200302T075441
CREATED:20161218T133850
LAST-MODIFIED:20161218T133850
UID:2450-1482433200-1482440400@sydjuan.org.au
SUMMARY:성탄 축제
DESCRIPTION:12월 22일 오후 7시\, 목요찬양시
URL:http://sydjuan.org.au/event/%ec%84%b1%ed%83%84-%ec%b6%95%ec%a0%9c/
LOCATION:140 Elizabeth st \, Sydney\, 2000\, Australia
CATEGORIES:Sermons
END:VEVENT
END:VCALENDAR